BEGIN:VCALENDAR
VERSION:2.0
PRODID:-//jEvents 2.0 for Joomla//EN
CALSCALE:GREGORIAN
METHOD:PUBLISH
BEGIN:VTIMEZONE
TZID:Europe/Berlin
BEGIN:STANDARD
DTSTART:20251225T170000
RDATE:20260329T030000
TZOFFSETFROM:+0200
TZOFFSETTO:+0100
TZNAME:Europe/Berlin CET
END:STANDARD
BEGIN:STANDARD
DTSTART:20261025T020000
RDATE:20270328T030000
TZOFFSETFROM:+0200
TZOFFSETTO:+0100
TZNAME:Europe/Berlin CET
END:STANDARD
BEGIN:DAYLIGHT
DTSTART:20260329T030000
RDATE:20261025T020000
TZOFFSETFROM:+0100
TZOFFSETTO:+0200
TZNAME:Europe/Berlin CEST
END:DAYLIGHT
END:VTIMEZONE
BEGIN:VEVENT
UID:ddd020991303b4ce32c17acdebffb6c3
CATEGORIES:Weihnachtskonzert
CREATED:20251106T170811
SUMMARY:WEIHNACHTSKONZERT 2026 || Kurt-Thomas-Kammerchor || DREIKÖNIGSKIRCHE Frankfurt am Main
LOCATION:: Dreikönigskirche Frankfurt am Main (Sachsenhäuser Ufer | Nähe Eiserner St
 eg)
URL;VALUE=URI:https://www.kurt-thomas-kammerchor.de/de/konzertprogramm-de/konzertkalender
 /Eventdetail/371/-/weihnachtskonzert-2026-kurt-thomas-kammerchor-dreikoenig
 skirche-frankfurt-am-main?tmpl=component
DESCRIPTION:<p style="text-align: left;"><strong>Samstag, 26.12.2026,&nbsp;17:00 Uhr<br
  /></strong>(2. Weihnachtsfeiertag)<strong><br /><a href="http://www.kirche
 nmusik-dreikoenig.de" target="_blank" rel="alternate noopener noreferrer" t
 itle="Dreikönigskirche Frankfurt am Main (Sachsenhäuser Mainufer, Nähe Eise
 rner Steg)">Dreikönigskirche Frankfurt am Main</a></strong></p><h4 style="t
 ext-align: left;"><strong>KONZERT ZUM WEIHNACHTSFEST</strong>&nbsp;</h4><h6
  style="text-align: left;"><strong>Weihnachtliche Chor- und Orgelmusik</str
 ong></h6><p style="text-align: left;"><strong>Kurt-Thomas-Kammerchor</stron
 g><br /><a href="http://www.kurt-thomas-kammerchor.de" target="_blank" rel=
 "alternate noopener noreferrer" title="www.kurt-thomas-kammerchor.de">www.k
 urt-thomas-kammerchor.de</a><br /><strong>Andreas Köhs</strong> | Leitung u
 nd Orgel<br /><a href="https://www.andreas-koehs.de" target="_blank" rel="n
 oopener" title="www.andreas-koehs.de">www.andreas-koehs.de</a></p><hr /><p 
 style="text-align: left;"><i class="fas fa-ticket"></i> Tickets: 15 EUR | e
 rmäßigt 10 EUR <br />(nur Abendkasse | freie Platzwahl)</p><hr /> <a href="
 https://www.kurt-thomas-kammerchor.de/de/konzertprogramm-de/konzertkalender
 /Eventdetail/371/-/weihnachtskonzert-2026-kurt-thomas-kammerchor-dreikoenig
 skirche-frankfurt-am-main?tmpl=component">Dieser Event wurde importiert von
 : https://www.kurt-thomas-kammerchor.de/de/konzertprogramm-de/konzertkalend
 er/Eventdetail/371/-/weihnachtskonzert-2026-kurt-thomas-kammerchor-dreikoen
 igskirche-frankfurt-am-main?tmpl=component</a>DTSTAMP:20260421T220438
DTSTART;TZID=Europe/Berlin:20261226T170000
DTEND;TZID=Europe/Berlin:20261226T183000
SEQUENCE:0
TRANSP:OPAQUE
END:VEVENT
END:VCALENDAR