BEGIN:VCALENDAR
VERSION:2.0
PRODID:-//jEvents 2.0 for Joomla//EN
CALSCALE:GREGORIAN
METHOD:PUBLISH
BEGIN:VTIMEZONE
TZID:Europe/Berlin
BEGIN:STANDARD
DTSTART:20251127T180000
RDATE:20260329T030000
TZOFFSETFROM:+0200
TZOFFSETTO:+0100
TZNAME:Europe/Berlin CET
END:STANDARD
BEGIN:STANDARD
DTSTART:20261025T020000
RDATE:20270328T030000
TZOFFSETFROM:+0200
TZOFFSETTO:+0100
TZNAME:Europe/Berlin CET
END:STANDARD
BEGIN:DAYLIGHT
DTSTART:20260329T030000
RDATE:20261025T020000
TZOFFSETFROM:+0100
TZOFFSETTO:+0200
TZNAME:Europe/Berlin CEST
END:DAYLIGHT
END:VTIMEZONE
BEGIN:VEVENT
UID:2fb077ba506bb60cd7f24f61e55372c2
CATEGORIES:Oratorienkonzert zum 1. Advent
CREATED:20251106T170443
SUMMARY:J. S. BACH | JAUCHZET - FROHLOCKET | Kurt-Thomas-Kammerchor || ABTEI KLOSTER ENGELTHAL
LOCATION:: Abtei Kloster Engelthal (Klosterstraße 2\, 63674 Altenstadt
URL;VALUE=URI:https://www.kurt-thomas-kammerchor.de/de/konzertprogramm-de/konzertkalender
 /Eventdetail/369/-/j-s-bach-jauchzet-frohlocket-kurt-thomas-kammerchor-abte
 i-kloster-engelthal?tmpl=component
DESCRIPTION:Samstag, 28.11.2026, 18:00 Uhr,\nAbtei Kloster Engelthal, \nJohann Sebastia
 n Bach (1685-1750)\nMagnificat | BWV 243,\nWeihnachtsoratorium (Teil I) | B
 WV 248,1,\nWeihnachtskantaten:\n"Christen, ätzet diesen Tag" | BWV 63\n"Sie
  werden aus Saba alle kommen" | BWV 65\nNatasha Goldberg | Sopran,\nAnne Bi
 erwirth | Alt,\nGeorg Poplutz | Tenor,\nKonstantin Paganetti | Bass,\nKurt-
 Thomas-Kammerchor\nwww.kurt-thomas-kammerchor.de \nTelemann-Ensemble Frankf
 urt,\nAndreas Köhs | Leitung\nwww.andreas-koehs.de \nTickets: 30 EUR | Aben
 dkasse Dieser Event wurde importiert von: https://www.kurt-thomas-kammercho
 r.de/de/konzertprogramm-de/konzertkalender/Eventdetail/369/-/j-s-bach-jauch
 zet-frohlocket-kurt-thomas-kammerchor-abtei-kloster-engelthal?tmpl=componen
 t (https://www.kurt-thomas-kammerchor.de/de/konzertprogramm-de/konzertkalen
 der/Eventdetail/369/-/j-s-bach-jauchzet-frohlocket-kurt-thomas-kammerchor-a
 btei-kloster-engelthal?tmpl=component)
X-ALT-DESC;FMTTYPE=text/html:Samstag, 28.11.2026, 18:00 Uhr,<br />Abtei Kloster Engelthal, <br />Johann 
 Sebastian Bach (1685-1750)<br />Magnificat | BWV 243,<br />Weihnachtsorator
 ium (Teil I) | BWV 248,1,<br />Weihnachtskantaten:<br />"Christen, ätzet di
 esen Tag" | BWV 63<br />"Sie werden aus Saba alle kommen" | BWV 65<br />Nat
 asha Goldberg | Sopran,<br />Anne Bierwirth | Alt,<br />Georg Poplutz | Ten
 or,<br />Konstantin Paganetti | Bass,<br />Kurt-Thomas-Kammerchor<br />www.
 kurt-thomas-kammerchor.de <br />Telemann-Ensemble Frankfurt,<br />Andreas K
 öhs | Leitung<br />www.andreas-koehs.de <br />Tickets: 30 EUR | Abendkasse 
 <a href="https://www.kurt-thomas-kammerchor.de/de/konzertprogramm-de/konzer
 tkalender/Eventdetail/369/-/j-s-bach-jauchzet-frohlocket-kurt-thomas-kammer
 chor-abtei-kloster-engelthal?tmpl=component">Dieser Event wurde importiert 
 von: https://www.kurt-thomas-kammerchor.de/de/konzertprogramm-de/konzertkal
 ender/Eventdetail/369/-/j-s-bach-jauchzet-frohlocket-kurt-thomas-kammerchor
 -abtei-kloster-engelthal?tmpl=component</a>DTSTAMP:20260421T122336
DTSTART;TZID=Europe/Berlin:20261128T180000
DTEND;TZID=Europe/Berlin:20261128T190000
SEQUENCE:0
TRANSP:OPAQUE
END:VEVENT
END:VCALENDAR