BEGIN:VCALENDAR
VERSION:2.0
PRODID:-//jEvents 2.0 for Joomla//EN
CALSCALE:GREGORIAN
METHOD:PUBLISH
BEGIN:VTIMEZONE
TZID:Europe/Berlin
BEGIN:STANDARD
DTSTART:20251026T020000
RDATE:20260329T030000
TZOFFSETFROM:+0200
TZOFFSETTO:+0100
TZNAME:Europe/Berlin CET
END:STANDARD
BEGIN:STANDARD
DTSTART:20261025T020000
RDATE:20270328T030000
TZOFFSETFROM:+0200
TZOFFSETTO:+0100
TZNAME:Europe/Berlin CET
END:STANDARD
BEGIN:DAYLIGHT
DTSTART:20250925T190000
RDATE:20251026T020000
TZOFFSETFROM:+0100
TZOFFSETTO:+0200
TZNAME:Europe/Berlin CEST
END:DAYLIGHT
BEGIN:DAYLIGHT
DTSTART:20260329T030000
RDATE:20261025T020000
TZOFFSETFROM:+0100
TZOFFSETTO:+0200
TZNAME:Europe/Berlin CEST
END:DAYLIGHT
END:VTIMEZONE
BEGIN:VEVENT
UID:b8cf826223a1e890a4eb7982cfa96596
CATEGORIES:a-cappella-Chorkonzert
CREATED:20251106T165357
SUMMARY:CHORKONZERT "Laudate" || Kurt-Thomas-Kammerchor || Ev.-Luth. KIRCHE FRIEDRICHSDORF-SEULBERG
LOCATION:: Ev.-Luth. Kirche Friedrichsdorf-Seulberg (Alt Seulberg 27\, 61381 Friedri
 chsdorf)
URL;VALUE=URI:https://www.kurt-thomas-kammerchor.de/de/konzertprogramm-de/konzertkalender
 /Eventdetail/363/-/chorkonzert-laudate-kurt-thomas-kammerchor-ev-luth-kirch
 e-friedrichsdorf-seulberg?tmpl=component
DESCRIPTION:Samstag, 26.09.2026, 19:00 Uhr,\nEv.-Luth. Kirche Friedrichsdorf-Seulberg  
 (https://seulberg.evangelisch-hochtaunus.de/home/de.html) \n(Alt Seulberg 2
 7, 61381 Friedrichsdorf)\nCHORKONZERT "Laudate"Einojuhani Rautavaara (1928-
 2016) \nMISSA a cappella Motetten von \nHeinrich Schütz (1585-1672),\nJohan
 n Sebastian Bach (1685-1750),\nArnold Schönberg (1874-1951) u.a.\nKurt-Thom
 as-Kammerchor\nwww.kurt-thomas-kammerchor.de (https://www.kurt-thomas-kamme
 rchor.de/) \nAndreas Köhs | Leitung\nwww.andreas-koehs.de (https://www.andr
 eas-koehs.de)\n Eintritt: 15 EUR, ermäßigt 10 EUR\n(nur Abendkasse | freie 
 Platzwahl)\n \n Dieser Event wurde importiert von: https://www.kurt-thomas-
 kammerchor.de/de/konzertprogramm-de/konzertkalender/Eventdetail/363/-/chork
 onzert-laudate-kurt-thomas-kammerchor-ev-luth-kirche-friedrichsdorf-seulber
 g?tmpl=component (https://www.kurt-thomas-kammerchor.de/de/konzertprogramm-
 de/konzertkalender/Eventdetail/363/-/chorkonzert-laudate-kurt-thomas-kammer
 chor-ev-luth-kirche-friedrichsdorf-seulberg?tmpl=component)
X-ALT-DESC;FMTTYPE=text/html:<p><strong>Samstag, 26.09.2026, 19:00 Uhr,<br /><a href="https://seulberg.e
 vangelisch-hochtaunus.de/home/de.html" target="_blank" rel="noopener norefe
 rrer" title="Ev.-Luth. Kirche Friedrichsdorf-Seulberg (Alt Seulberg 27, 613
 81 Friedrichsdorf)">Ev.-Luth. Kirche Friedrichsdorf-Seulberg&nbsp;</a>&nbsp
 ;<br /></strong>(Alt Seulberg 27, 61381 Friedrichsdorf)</p><h4 style="text-
 align: left;"><strong>CHORKONZERT "Laudate"</strong></h4><h5 style="text-al
 ign: left;"><strong>Einojuhani Rautavaara</strong> (1928-2016) <br /><stron
 g>MISSA a cappella&nbsp;</strong></h5><p><strong>Motetten von</strong> <br 
 /><strong>Heinrich Schütz</strong> (1585-1672),<br /><strong>Johann Sebasti
 an Bach</strong> (1685-1750),<br /><strong>Arnold Schönberg </strong>(1874-
 1951) u.a.</p><p><strong>Kurt-Thomas-Kammerchor</strong><br /><a href="http
 s://www.kurt-thomas-kammerchor.de/" target="_blank" rel="noopener noreferre
 r" title="www.kurt-thomas-kammerchor.de">www.kurt-thomas-kammerchor.de</a> 
 <br /><strong>Andreas Köhs</strong> | Leitung<br /><a href="https://www.and
 reas-koehs.de" target="_blank" rel="noopener" title="www.andreas-koehs.de">
 www.andreas-koehs.de</a></p><hr /><p style="text-align: left;"><strong><i c
 lass="fas fa-ticket"></i> Eintritt</strong>: 15 EUR, ermäßigt 10 EUR<br />(
 nur Abendkasse | freie Platzwahl)</p><hr /><p>&nbsp;</p> <a href="https://w
 ww.kurt-thomas-kammerchor.de/de/konzertprogramm-de/konzertkalender/Eventdet
 ail/363/-/chorkonzert-laudate-kurt-thomas-kammerchor-ev-luth-kirche-friedri
 chsdorf-seulberg?tmpl=component">Dieser Event wurde importiert von: https:/
 /www.kurt-thomas-kammerchor.de/de/konzertprogramm-de/konzertkalender/Eventd
 etail/363/-/chorkonzert-laudate-kurt-thomas-kammerchor-ev-luth-kirche-fried
 richsdorf-seulberg?tmpl=component</a>DTSTAMP:20260423T083635
DTSTART;TZID=Europe/Berlin:20260926T190000
DTEND;TZID=Europe/Berlin:20260926T203000
SEQUENCE:0
TRANSP:OPAQUE
END:VEVENT
END:VCALENDAR