BEGIN:VCALENDAR
VERSION:2.0
PRODID:-//jEvents 2.0 for Joomla//EN
CALSCALE:GREGORIAN
METHOD:PUBLISH
BEGIN:VTIMEZONE
TZID:Europe/Berlin
BEGIN:STANDARD
DTSTART:20241129T170000
RDATE:20250330T030000
TZOFFSETFROM:+0200
TZOFFSETTO:+0100
TZNAME:Europe/Berlin CET
END:STANDARD
BEGIN:STANDARD
DTSTART:20251026T020000
RDATE:20260329T030000
TZOFFSETFROM:+0200
TZOFFSETTO:+0100
TZNAME:Europe/Berlin CET
END:STANDARD
BEGIN:STANDARD
DTSTART:20261025T020000
RDATE:20270328T030000
TZOFFSETFROM:+0200
TZOFFSETTO:+0100
TZNAME:Europe/Berlin CET
END:STANDARD
BEGIN:DAYLIGHT
DTSTART:20250330T030000
RDATE:20251026T020000
TZOFFSETFROM:+0100
TZOFFSETTO:+0200
TZNAME:Europe/Berlin CEST
END:DAYLIGHT
BEGIN:DAYLIGHT
DTSTART:20260329T030000
RDATE:20261025T020000
TZOFFSETFROM:+0100
TZOFFSETTO:+0200
TZNAME:Europe/Berlin CEST
END:DAYLIGHT
END:VTIMEZONE
BEGIN:VEVENT
UID:011a95129f55e684cbd847d6455a6c56
CATEGORIES:Chorkonzert zum 1. Advent
CREATED:20240414T170055
SUMMARY:MONTEVERDI | MARIENVESPER || Kurt-Thomas-Kammerchor || DREIKÖNIGSKIRCHE Frankfurt am Main
LOCATION:: Dreikönigskirche Frankfurt am Main (Sachsenhäuser Ufer | Nähe Eiserner St
 eg)
URL;VALUE=URI:https://www.kurt-thomas-kammerchor.de/de/konzertprogramm-de/konzertkalender
 /Eventdetail/303/-/monteverdi-marienvesper-kurt-thomas-kammerchor-dreikoeni
 gskirche-frankfurt-am-main?tmpl=component
DESCRIPTION:<p style="text-align: left;"><strong>Sonntag, 30.11.2025, 17:00 Uhr<br /></
 strong>(1. Advent)<br /><strong><a href="http://www.kirchenmusik-dreikoenig
 .de" target="_blank" rel="alternate noopener noreferrer" title="Dreikönigsk
 irche Frankfurt am Main (Sachsenhäuser Mainufer, Nähe Eiserner Steg)">Dreik
 önigskirche Frankfurt am Main</a></strong></p><h4 style="text-align: left;"
 ><strong>claudio Monteverdi</strong> (1567-1643)<br /><strong>Marienvesper 
 1610</strong></h4><h6><strong>(Vespro della Beata Vergine)</strong></h6><p>
 <strong>Natasha Goldberg</strong> | Sopran<br /><strong>Simone Schwark</str
 ong> | Sopran<br /><strong>Georg Poplutz</strong> | Tenor<br /><strong>Chri
 stian Rathgeber</strong> | Tenor<br /><strong>Konstantin Paganetti</strong>
  | Bass<br /><strong>Christoph Kögel</strong> | Bass</p><p><strong>Kurt-Tho
 mas-Kammerchor</strong><br /><strong>Telemann-Ensemble Frankfurt</strong><b
 r /><strong>Andreas Köhs</strong> | Leitung</p><hr /><p style="text-align: 
 left;"><strong><i class="fas fa-ticket"></i> Tickets</strong>: 35 EUR, ermä
 ßigt 25 EUR (Abendkasse)<br /><strong><i class="fas fa-ticket"></i> Tickets
 vorverkauf:&nbsp;</strong> via Frankfurt-Ticket RheinMain (zzgl. Vorverkauf
 sgebühr):<br /><strong><a href="https://www.frankfurtticket.de/tickets/clau
 dio-monteverdi-marienvesper-1610-8958.71435/" target="_blank" rel="noopener
 " class="btn btn-sm btn-primary" title="Ticket-Online: MONTEVERDI | MARIENV
 ESPER (1610) | 1. Adventssonntag, 30.11.2025 | 17:00 Uhr | Dreikönigskirche
  || via Frankfurt-Ticket RheinMain (zzgl. Vorverkaufsgebühr)">Ticket-Online
 : MONTEVERDI | MARIENVESPER (1610) | 1. Adventssonntag, 30.11.2025 | 17:00 
 Uhr | Dreikönigskirche</a></strong></p><hr /> <a href="https://www.kurt-tho
 mas-kammerchor.de/de/konzertprogramm-de/konzertkalender/Eventdetail/303/-/m
 onteverdi-marienvesper-kurt-thomas-kammerchor-dreikoenigskirche-frankfurt-a
 m-main?tmpl=component">Dieser Event wurde importiert von: https://www.kurt-
 thomas-kammerchor.de/de/konzertprogramm-de/konzertkalender/Eventdetail/303/
 -/monteverdi-marienvesper-kurt-thomas-kammerchor-dreikoenigskirche-frankfur
 t-am-main?tmpl=component</a>DTSTAMP:20260424T104120
DTSTART;TZID=Europe/Berlin:20251130T170000
DTEND;TZID=Europe/Berlin:20251130T190000
SEQUENCE:0
TRANSP:OPAQUE
END:VEVENT
END:VCALENDAR