BEGIN:VCALENDAR
VERSION:2.0
PRODID:-//jEvents 2.0 for Joomla//EN
CALSCALE:GREGORIAN
METHOD:PUBLISH
BEGIN:VTIMEZONE
TZID:Europe/Berlin
BEGIN:STANDARD
DTSTART:20230323T180000
RDATE:20230326T030000
TZOFFSETFROM:+0200
TZOFFSETTO:+0100
TZNAME:Europe/Berlin CET
END:STANDARD
BEGIN:STANDARD
DTSTART:20231029T020000
RDATE:20240331T030000
TZOFFSETFROM:+0200
TZOFFSETTO:+0100
TZNAME:Europe/Berlin CET
END:STANDARD
BEGIN:STANDARD
DTSTART:20241027T020000
RDATE:20250330T030000
TZOFFSETFROM:+0200
TZOFFSETTO:+0100
TZNAME:Europe/Berlin CET
END:STANDARD
BEGIN:STANDARD
DTSTART:20251026T020000
RDATE:20260329T030000
TZOFFSETFROM:+0200
TZOFFSETTO:+0100
TZNAME:Europe/Berlin CET
END:STANDARD
BEGIN:STANDARD
DTSTART:20261025T020000
RDATE:20270328T030000
TZOFFSETFROM:+0200
TZOFFSETTO:+0100
TZNAME:Europe/Berlin CET
END:STANDARD
BEGIN:DAYLIGHT
DTSTART:20230326T030000
RDATE:20231029T020000
TZOFFSETFROM:+0100
TZOFFSETTO:+0200
TZNAME:Europe/Berlin CEST
END:DAYLIGHT
BEGIN:DAYLIGHT
DTSTART:20240331T030000
RDATE:20241027T020000
TZOFFSETFROM:+0100
TZOFFSETTO:+0200
TZNAME:Europe/Berlin CEST
END:DAYLIGHT
BEGIN:DAYLIGHT
DTSTART:20250330T030000
RDATE:20251026T020000
TZOFFSETFROM:+0100
TZOFFSETTO:+0200
TZNAME:Europe/Berlin CEST
END:DAYLIGHT
BEGIN:DAYLIGHT
DTSTART:20260329T030000
RDATE:20261025T020000
TZOFFSETFROM:+0100
TZOFFSETTO:+0200
TZNAME:Europe/Berlin CEST
END:DAYLIGHT
END:VTIMEZONE
BEGIN:VEVENT
UID:278e73f0d565c6a466788e3f294a8867
CATEGORIES:Chorkonzert zur Passion
CREATED:20231128T153548
SUMMARY:BACH | JOHANNESPASSION || Kurt-Thomas-Kammerchor || Benediktinerinnenabtei Kloster Engelthal
LOCATION:: Kloster Engelthal / Altenstadt (Klosterstr. 2\, 63674 Altenstadt)
URL;VALUE=URI:https://www.kurt-thomas-kammerchor.de/de/konzertprogramm-de/konzertkalender
 /Eventdetail/249/-/bach-johannespassion-kurt-thomas-kammerchor-benediktiner
 innenabtei-kloster-engelthal?tmpl=component
DESCRIPTION:<p style="text-align: left;"><strong>Samstag, 23.03.2024, 18:00 Uhr<a href=
 "https://www.abtei-kloster-engelthal.de/" target="_blank" rel="alternate no
 opener noreferrer" title="Benediktinerinnenabtei Kloster Engelthal (Kloster
 straße 2, 63674 Altenstadt / Hessen)"><br />Benediktinerinnenabtei Kloster 
 Engelthal</a></strong></p><h4 style="text-align: left;"><strong>Johann Seba
 stian Bach </strong>(1685-1750)<br /><strong>Johannes-Passion | BWV 245</st
 rong></h4><p style="text-align: left;"><strong>(300 Jahre Uraufführung der 
 Johannes-Passion)<br /></strong></p><p style="text-align: left;"><strong>An
 nemarie Pfahler </strong>| Sopran<strong><br />Julia Diefenbach </strong>| 
 Alt<strong><br />Georg Poplutz&nbsp;</strong>| Tenor<strong><br /></strong>
 <strong>Johannes Hill </strong>| Bass (Jesus)<br /><strong>Konstantin Pagan
 etti</strong> | Bass (Arien)</p><p style="text-align: left;"><strong>KURT-T
 HOMAS-KAMMERCHOR</strong><br /><a href="http://www.kurt-thomas-kammerchor.d
 e" target="_blank" rel="alternate noopener noreferrer" title="www.kurt-thom
 as-kammerchor.de">www.kurt-thomas-kammerchor.de</a><br /><strong>Telemann-E
 nsemble Frankfurt</strong><br /><strong>Andreas Köhs</strong> | Leitung</p>
 <hr /><p style="text-align: left;"><strong><i class="fas fa-ticket"></i> Ti
 ckets</strong>: 25 EUR | Abendkasse<br /><strong>Kartenvorverkauf</strong> 
 im Klosterforum: samstags 13:30 - 16:00 Uhr<br /><strong>Kartenvorbestellun
 gen</strong> unter: konzertkarten(at)abtei-kloster-engelthal.de</p><hr /><p
 >&nbsp;</p> <a href="https://www.kurt-thomas-kammerchor.de/de/konzertprogra
 mm-de/konzertkalender/Eventdetail/249/-/bach-johannespassion-kurt-thomas-ka
 mmerchor-benediktinerinnenabtei-kloster-engelthal?tmpl=component">Dieser Ev
 ent wurde importiert von: https://www.kurt-thomas-kammerchor.de/de/konzertp
 rogramm-de/konzertkalender/Eventdetail/249/-/bach-johannespassion-kurt-thom
 as-kammerchor-benediktinerinnenabtei-kloster-engelthal?tmpl=component</a>DTSTAMP:20260424T231634
DTSTART;TZID=Europe/Berlin:20240323T180000
DTEND;TZID=Europe/Berlin:20240323T200000
SEQUENCE:0
TRANSP:OPAQUE
END:VEVENT
END:VCALENDAR