BEGIN:VCALENDAR
VERSION:2.0
PRODID:-//jEvents 2.0 for Joomla//EN
CALSCALE:GREGORIAN
METHOD:PUBLISH
BEGIN:VTIMEZONE
TZID:Europe/Berlin
BEGIN:STANDARD
DTSTART:20251128T170000
RDATE:20260329T030000
TZOFFSETFROM:+0200
TZOFFSETTO:+0100
TZNAME:Europe/Berlin CET
END:STANDARD
BEGIN:STANDARD
DTSTART:20261025T020000
RDATE:20270328T030000
TZOFFSETFROM:+0200
TZOFFSETTO:+0100
TZNAME:Europe/Berlin CET
END:STANDARD
BEGIN:DAYLIGHT
DTSTART:20260329T030000
RDATE:20261025T020000
TZOFFSETFROM:+0100
TZOFFSETTO:+0200
TZNAME:Europe/Berlin CEST
END:DAYLIGHT
END:VTIMEZONE
BEGIN:VEVENT
UID:c759288cd6626f62a6f99700ada5c0d7
CATEGORIES:Chorkonzert zum 1. Advent
CREATED:20251106T170619
SUMMARY:J. S. BACH | JAUCHZET - FROHLOCKET || Kurt-Thomas-Kammerchor || DREIKÖNIGSKIRCHE Frankfurt am Main
LOCATION:: Dreikönigskirche Frankfurt am Main (Sachsenhäuser Ufer | Nähe Eiserner St
 eg)
URL;VALUE=URI:https://www.kurt-thomas-kammerchor.de/de/component/jevents/Eventdetail/370/
 -/j-s-bach-jauchzet-frohlocket-kurt-thomas-kammerchor-dreikoenigskirche-fra
 nkfurt-am-main?Itemid=305&amp;tmpl=component
DESCRIPTION:Sonntag, 29.11.2026, 17:00 Uhr\n(1. Advent)\nDreikönigskirche Frankfurt am 
 Main (http://www.kirchenmusik-dreikoenig.de)\nJohann Sebastian Bach (1685-1
 750)\nMagnificat | BWV 243Weihnachtsoratorium (Teil I) | BWV 248,1Weihnacht
 skantaten\n"Christen, ätzet diesen Tag" | BWV 63\n"Sie werden aus Saba alle
  kommen" | BWV 65Natasha Goldberg | Sopran\nAnne Bierwirth | Alt\nGeorg Pop
 lutz | Tenor\nKonstantin Paganetti | Bass\nKurt-Thomas-Kammerchor\nwww.kurt
 -thomas-kammerchor.de (http://www.kurt-thomas-kammerchor.de)\nTelemann-Ense
 mble Frankfurt\nAndreas Köhs | Leitung\nwww.andreas-koehs.de (https://www.a
 ndreas-koehs.de)\n Tickets: 35 EUR, ermäßigt 25 EUR (Abendkasse)\n Ticketsv
 orverkauf:  via Frankfurt-Ticket RheinMain (zzgl. Vorverkaufsgebühr):\nTick
 et-Online: BACH | JAUCHZET - FROHLOCKET | 1. Adventssonntag, 29.11.2026 | 1
 7:00 Uhr | Dreikönigskirche\n Dieser Event wurde importiert von: https://ww
 w.kurt-thomas-kammerchor.de/de/component/jevents/Eventdetail/370/-/j-s-bach
 -jauchzet-frohlocket-kurt-thomas-kammerchor-dreikoenigskirche-frankfurt-am-
 main?Itemid=305&amp;tmpl=component (https://www.kurt-thomas-kammerchor.de/d
 e/component/jevents/Eventdetail/370/-/j-s-bach-jauchzet-frohlocket-kurt-tho
 mas-kammerchor-dreikoenigskirche-frankfurt-am-main?Itemid=305&amp;tmpl=comp
 onent)
X-ALT-DESC;FMTTYPE=text/html:<p style="text-align: left;"><strong>Sonntag, 29.11.2026, 17:00 Uhr<br /></
 strong>(1. Advent)<br /><strong><a href="http://www.kirchenmusik-dreikoenig
 .de" target="_blank" rel="alternate noopener noreferrer" title="Dreikönigsk
 irche Frankfurt am Main (Sachsenhäuser Mainufer, Nähe Eiserner Steg)">Dreik
 önigskirche Frankfurt am Main</a></strong></p><h4 style="text-align: left;"
 ><strong>Johann Sebastian Bach&nbsp;</strong>(1685-1750)<br /><strong>Magni
 ficat </strong>| BWV 243</h4><h4><strong>Weihnachtsoratorium (Teil I)</stro
 ng> | BWV 248,1</h4><h5><strong>Weihnachtskantaten</strong><br /><strong>"C
 hristen, ätzet diesen Tag"</strong> | BWV 63<br /><strong>"Sie werden aus S
 aba alle kommen"</strong> | BWV 65</h5><p style="text-align: left;"><strong
 >Natasha Goldberg</strong> | Sopran<br /><strong>Anne Bierwirth</strong>&nb
 sp;| Alt<br /><strong>Georg Poplutz</strong>&nbsp;| Tenor<br /><strong>Kons
 tantin Paganetti</strong> | Bass</p><p style="text-align: left;"><strong>Ku
 rt-Thomas-Kammerchor</strong><br /><a href="http://www.kurt-thomas-kammerch
 or.de" target="_blank" rel="alternate noopener noreferrer" title="www.kurt-
 thomas-kammerchor.de">www.kurt-thomas-kammerchor.de</a><br /><strong>Telema
 nn-Ensemble Frankfurt</strong><br /><strong>Andreas Köhs</strong> | Leitung
 <br /><a href="https://www.andreas-koehs.de" target="_blank" rel="noopener"
  title="www.andreas-koehs.de">www.andreas-koehs.de</a></p><hr /><p style="t
 ext-align: left;"><strong><i class="fas fa-ticket"></i> Tickets</strong>: 3
 5 EUR, ermäßigt 25 EUR (Abendkasse)<br /><strong><i class="fas fa-ticket"><
 /i> Ticketsvorverkauf:&nbsp;</strong> via Frankfurt-Ticket RheinMain (zzgl.
  Vorverkaufsgebühr):<br /><strong><a href="https://www.frankfurtticket.de/t
 ickets/johann-sebastian-bach-jauchzet-frohlocket-15494.75468/" target="_bla
 nk" rel="noopener" class="btn btn-sm btn-primary" title="Ticket-Online: BAC
 H | JAUCHZET - FROHLOCKET | 1. Adventssonntag, 29.11.2026 | 17:00 Uhr | Dre
 ikönigskirche || via Frankfurt-Ticket RheinMain (zzgl. Vorverkaufsgebühr)">
 Ticket-Online: BACH | JAUCHZET - FROHLOCKET | 1. Adventssonntag, 29.11.2026
  | 17:00 Uhr | Dreikönigskirche</a></strong></p><hr /><hr /> <a href="https
 ://www.kurt-thomas-kammerchor.de/de/component/jevents/Eventdetail/370/-/j-s
 -bach-jauchzet-frohlocket-kurt-thomas-kammerchor-dreikoenigskirche-frankfur
 t-am-main?Itemid=305&amp;tmpl=component">Dieser Event wurde importiert von:
  https://www.kurt-thomas-kammerchor.de/de/component/jevents/Eventdetail/370
 /-/j-s-bach-jauchzet-frohlocket-kurt-thomas-kammerchor-dreikoenigskirche-fr
 ankfurt-am-main?Itemid=305&amp;tmpl=component</a>DTSTAMP:20260420T102334
DTSTART;TZID=Europe/Berlin:20261129T170000
DTEND;TZID=Europe/Berlin:20261129T190000
SEQUENCE:0
TRANSP:OPAQUE
END:VEVENT
END:VCALENDAR