BEGIN:VCALENDAR
VERSION:2.0
PRODID:-//jEvents 2.0 for Joomla//EN
CALSCALE:GREGORIAN
METHOD:PUBLISH
BEGIN:VTIMEZONE
TZID:Europe/Berlin
BEGIN:STANDARD
DTSTART:20251026T020000
RDATE:20260329T030000
TZOFFSETFROM:+0200
TZOFFSETTO:+0100
TZNAME:Europe/Berlin CET
END:STANDARD
BEGIN:STANDARD
DTSTART:20261025T020000
RDATE:20270328T030000
TZOFFSETFROM:+0200
TZOFFSETTO:+0100
TZNAME:Europe/Berlin CET
END:STANDARD
BEGIN:DAYLIGHT
DTSTART:20250926T170000
RDATE:20251026T020000
TZOFFSETFROM:+0100
TZOFFSETTO:+0200
TZNAME:Europe/Berlin CEST
END:DAYLIGHT
BEGIN:DAYLIGHT
DTSTART:20260329T030000
RDATE:20261025T020000
TZOFFSETFROM:+0100
TZOFFSETTO:+0200
TZNAME:Europe/Berlin CEST
END:DAYLIGHT
END:VTIMEZONE
BEGIN:VEVENT
UID:f716de783f6c3dd6af794855939ee07d
CATEGORIES:Chorkonzert
CREATED:20251106T165845
SUMMARY:CHORKONZERT "Laudate" || Kurt-Thomas-Kammerchor || DREIKÖNIGSKIRCHE Frankfurt am Main
LOCATION:: Dreikönigskirche Frankfurt am Main (Sachsenhäuser Ufer | Nähe Eiserner St
 eg)
URL;VALUE=URI:https://www.kurt-thomas-kammerchor.de/de/component/jevents/Eventdetail/366/
 -/chorkonzert-laudate-kurt-thomas-kammerchor-dreikoenigskirche-frankfurt-am
 -main?Itemid=305&amp;tmpl=component
DESCRIPTION:Sonntag, 27.09.2026, 17:00 Uhr \nDreikönigskirche Frankfurt am Main (https:
 //www.kirchenmusik-dreikoenig.de)\nCHORKONZERT "Laudate"Einojuhani Rautavaa
 ra (1928-2016) \nMISSA a cappella Motetten von \nHeinrich Schütz (1585-1672
 ),\nJohann Sebastian Bach (1685-1750),\nArnold Schönberg (1874-1951) u.a.\n
 Kurt-Thomas-Kammerchor\nwww.kurt-thomas-kammerchor.de (https://www.kurt-tho
 mas-kammerchor.de/)\nAndreas Köhs | Leitung\nwww.andreas-koehs.de (https://
 www.andreas-koehs.de)\n Tickets: 20 EUR, ermäßigt 15 EUR \n(nur Abendkasse 
 | freie Platzwahl)\n Dieser Event wurde importiert von: https://www.kurt-th
 omas-kammerchor.de/de/component/jevents/Eventdetail/366/-/chorkonzert-lauda
 te-kurt-thomas-kammerchor-dreikoenigskirche-frankfurt-am-main?Itemid=305&am
 p;tmpl=component (https://www.kurt-thomas-kammerchor.de/de/component/jevent
 s/Eventdetail/366/-/chorkonzert-laudate-kurt-thomas-kammerchor-dreikoenigsk
 irche-frankfurt-am-main?Itemid=305&amp;tmpl=component)
X-ALT-DESC;FMTTYPE=text/html:<p style="text-align: left;"><strong>Sonntag, 27.09.2026, 17:00 Uhr <br /><
 a href="https://www.kirchenmusik-dreikoenig.de" target="_blank" rel="altern
 ate noopener noreferrer" title="Dreikönigskirche Frankfurt am Main (Sachsen
 häuser Mainufer, Nähe Eiserner Steg)">Dreikönigskirche Frankfurt am Main</a
 ></strong></p><h4 style="text-align: left;"><strong>CHORKONZERT "Laudate"</
 strong></h4><h5 style="text-align: left;"><strong>Einojuhani Rautavaara</st
 rong> (1928-2016) <br /><strong>MISSA a cappella&nbsp;</strong></h5><p><str
 ong>Motetten von</strong> <br /><strong>Heinrich Schütz</strong> (1585-1672
 ),<br /><strong>Johann Sebastian Bach</strong> (1685-1750),<br /><strong>Ar
 nold Schönberg </strong>(1874-1951) u.a.</p><p><strong>Kurt-Thomas-Kammerch
 or</strong><br /><a href="https://www.kurt-thomas-kammerchor.de/" target="_
 blank" rel="noopener noreferrer" title="www.kurt-thomas-kammerchor.de">www.
 kurt-thomas-kammerchor.de</a><br /><strong>Andreas Köhs</strong> | Leitung<
 br /><a href="https://www.andreas-koehs.de" target="_blank" rel="noopener" 
 title="www.andreas-koehs.de">www.andreas-koehs.de</a></p><hr /><p><strong><
 i class="fas fa-ticket"></i> Tickets</strong>: 20 EUR, ermäßigt 15 EUR <br 
 />(nur Abendkasse | freie Platzwahl)</p><hr /> <a href="https://www.kurt-th
 omas-kammerchor.de/de/component/jevents/Eventdetail/366/-/chorkonzert-lauda
 te-kurt-thomas-kammerchor-dreikoenigskirche-frankfurt-am-main?Itemid=305&am
 p;tmpl=component">Dieser Event wurde importiert von: https://www.kurt-thoma
 s-kammerchor.de/de/component/jevents/Eventdetail/366/-/chorkonzert-laudate-
 kurt-thomas-kammerchor-dreikoenigskirche-frankfurt-am-main?Itemid=305&amp;t
 mpl=component</a>DTSTAMP:20260419T212350
DTSTART;TZID=Europe/Berlin:20260927T170000
DTEND;TZID=Europe/Berlin:20260927T183000
SEQUENCE:0
TRANSP:OPAQUE
END:VEVENT
END:VCALENDAR