BEGIN:VCALENDAR
VERSION:2.0
PRODID:-//jEvents 2.0 for Joomla//EN
CALSCALE:GREGORIAN
METHOD:PUBLISH
BEGIN:VTIMEZONE
TZID:Europe/Berlin
BEGIN:STANDARD
DTSTART:20241128T180000
RDATE:20250330T030000
TZOFFSETFROM:+0200
TZOFFSETTO:+0100
TZNAME:Europe/Berlin CET
END:STANDARD
BEGIN:STANDARD
DTSTART:20251026T020000
RDATE:20260329T030000
TZOFFSETFROM:+0200
TZOFFSETTO:+0100
TZNAME:Europe/Berlin CET
END:STANDARD
BEGIN:STANDARD
DTSTART:20261025T020000
RDATE:20270328T030000
TZOFFSETFROM:+0200
TZOFFSETTO:+0100
TZNAME:Europe/Berlin CET
END:STANDARD
BEGIN:DAYLIGHT
DTSTART:20250330T030000
RDATE:20251026T020000
TZOFFSETFROM:+0100
TZOFFSETTO:+0200
TZNAME:Europe/Berlin CEST
END:DAYLIGHT
BEGIN:DAYLIGHT
DTSTART:20260329T030000
RDATE:20261025T020000
TZOFFSETFROM:+0100
TZOFFSETTO:+0200
TZNAME:Europe/Berlin CEST
END:DAYLIGHT
END:VTIMEZONE
BEGIN:VEVENT
UID:55e16a57d8f5df65972ce8e9006f5736
CATEGORIES:Chorkonzert zum 1. Advent
CREATED:20240414T165951
SUMMARY:MONTEVERDI | MARIENVESPER || Kurt-Thomas-Kammerchor || KLOSTER ENGELTHAL
LOCATION:: Kloster Engelthal / Altenstadt (Klosterstr. 2\, 63674 Altenstadt)
URL;VALUE=URI:https://www.kurt-thomas-kammerchor.de/de/component/jevents/Eventdetail/302/
 -/monteverdi-marienvesper-kurt-thomas-kammerchor-kloster-engelthal?Itemid=3
 05&amp;tmpl=component
DESCRIPTION:Samstag, 29.11.2025, 18:00 Uhr\nBenediktinerinnenabtei Kloster Engelthal (h
 ttp://www.abtei-kloster-engelthal.de/) \nclaudio Monteverdi (1567-1643)\nMa
 rienvesper 1610(Vespro della Beata Vergine)Natasha Goldberg | Sopran\nSimon
 e Schwark | Sopran\nGeorg Poplutz | Tenor\nChristian Rathgeber | Tenor\nKon
 stantin Paganetti | Bass\nChristoph Kögel | Bass\nKurt-Thomas-Kammerchor\nT
 elemann-Ensemble Frankfurt\nAndreas Köhs | Leitung\n Tickets: 30 EUR | Aben
 dkasse\nKartenvorverkauf im Klosterforum: samstags 13:30 - 16:00 Uhr\nKarte
 nvorbestellungen unter: konzertkarten(at)abtei-kloster-engelthal.de\n Diese
 r Event wurde importiert von: https://www.kurt-thomas-kammerchor.de/de/comp
 onent/jevents/Eventdetail/302/-/monteverdi-marienvesper-kurt-thomas-kammerc
 hor-kloster-engelthal?Itemid=305&amp;tmpl=component (https://www.kurt-thoma
 s-kammerchor.de/de/component/jevents/Eventdetail/302/-/monteverdi-marienves
 per-kurt-thomas-kammerchor-kloster-engelthal?Itemid=305&amp;tmpl=component)
X-ALT-DESC;FMTTYPE=text/html:<p style="text-align: left;"><strong>Samstag, 29.11.2025, 18:00 Uhr<br /><a
  href="http://www.abtei-kloster-engelthal.de/" target="_blank" rel="alterna
 te noopener noreferrer" title="Benediktinerinnenabtei Kloster Engelthal (Kl
 osterstraße 2, 63674 Altenstadt / Hessen)">Benediktinerinnenabtei Kloster E
 ngelthal</a> </strong></p><h4 style="text-align: left;"><strong>claudio Mon
 teverdi</strong> (1567-1643)<br /><strong>Marienvesper 1610</strong></h4><h
 6><strong>(Vespro della Beata Vergine)</strong></h6><p><strong>Natasha Gold
 berg</strong> | Sopran<br /><strong>Simone Schwark</strong> | Sopran<br /><
 strong>Georg Poplutz</strong> | Tenor<br /><strong>Christian Rathgeber</str
 ong> | Tenor<br /><strong>Konstantin Paganetti</strong> | Bass<br /><strong
 >Christoph Kögel</strong> | Bass</p><p><strong>Kurt-Thomas-Kammerchor</stro
 ng><br /><strong>Telemann-Ensemble Frankfurt</strong><br /><strong>Andreas 
 Köhs</strong> | Leitung</p><hr /><p style="text-align: left;"><strong><i cl
 ass="fas fa-ticket"></i> Tickets</strong>: 30 EUR | Abendkasse<br /><strong
 >Kartenvorverkauf</strong> im Klosterforum: samstags 13:30 - 16:00 Uhr<br /
 ><strong>Kartenvorbestellungen</strong> unter: konzertkarten(at)abtei-klost
 er-engelthal.de</p><hr /> <a href="https://www.kurt-thomas-kammerchor.de/de
 /component/jevents/Eventdetail/302/-/monteverdi-marienvesper-kurt-thomas-ka
 mmerchor-kloster-engelthal?Itemid=305&amp;tmpl=component">Dieser Event wurd
 e importiert von: https://www.kurt-thomas-kammerchor.de/de/component/jevent
 s/Eventdetail/302/-/monteverdi-marienvesper-kurt-thomas-kammerchor-kloster-
 engelthal?Itemid=305&amp;tmpl=component</a>DTSTAMP:20260423T154120
DTSTART;TZID=Europe/Berlin:20251129T180000
DTEND;TZID=Europe/Berlin:20251129T200000
SEQUENCE:0
TRANSP:OPAQUE
END:VEVENT
END:VCALENDAR