BEGIN:VCALENDAR
VERSION:2.0
PRODID:-//jEvents 2.0 for Joomla//EN
CALSCALE:GREGORIAN
METHOD:PUBLISH
BEGIN:VTIMEZONE
TZID:Europe/Berlin
BEGIN:STANDARD
DTSTART:20231029T020000
RDATE:20240331T030000
TZOFFSETFROM:+0200
TZOFFSETTO:+0100
TZNAME:Europe/Berlin CET
END:STANDARD
BEGIN:STANDARD
DTSTART:20241027T020000
RDATE:20250330T030000
TZOFFSETFROM:+0200
TZOFFSETTO:+0100
TZNAME:Europe/Berlin CET
END:STANDARD
BEGIN:STANDARD
DTSTART:20251026T020000
RDATE:20260329T030000
TZOFFSETFROM:+0200
TZOFFSETTO:+0100
TZNAME:Europe/Berlin CET
END:STANDARD
BEGIN:STANDARD
DTSTART:20261025T020000
RDATE:20270328T030000
TZOFFSETFROM:+0200
TZOFFSETTO:+0100
TZNAME:Europe/Berlin CET
END:STANDARD
BEGIN:DAYLIGHT
DTSTART:20230930T200000
RDATE:20231029T020000
TZOFFSETFROM:+0100
TZOFFSETTO:+0200
TZNAME:Europe/Berlin CEST
END:DAYLIGHT
BEGIN:DAYLIGHT
DTSTART:20240331T030000
RDATE:20241027T020000
TZOFFSETFROM:+0100
TZOFFSETTO:+0200
TZNAME:Europe/Berlin CEST
END:DAYLIGHT
BEGIN:DAYLIGHT
DTSTART:20250330T030000
RDATE:20251026T020000
TZOFFSETFROM:+0100
TZOFFSETTO:+0200
TZNAME:Europe/Berlin CEST
END:DAYLIGHT
BEGIN:DAYLIGHT
DTSTART:20260329T030000
RDATE:20261025T020000
TZOFFSETFROM:+0100
TZOFFSETTO:+0200
TZNAME:Europe/Berlin CEST
END:DAYLIGHT
END:VTIMEZONE
BEGIN:VEVENT
UID:57f557eb9f64e7baedafee995cfff90e
CATEGORIES:Chorkonzert
CREATED:20231128T154440
SUMMARY:CHORKONZERT "Dona nobis pacem" || Kurt-Thomas-Kammerchor || Heiliggeistkirche im Dominikanerkloster Frankfurt am Main
LOCATION:: Heiliggeistkirche im Dominikanerkloster Frankfurt am Main (Dominikanergas
 se 14\, 60311 Frankfurt)
URL;VALUE=URI:https://www.kurt-thomas-kammerchor.de/de/component/jevents/Eventdetail/254/
 -/chorkonzert-dona-nobis-pacem-kurt-thomas-kammerchor-heiliggeistkirche-im-
 dominikanerkloster-frankfurt-am-main?Itemid=305&amp;tmpl=component
DESCRIPTION:Montag, 30.09.2024, 20:00 Uhr\nHeiliggeistkirche im Dominikanerkloster Fran
 kfurt am Main (http://kirchenmusikverein.kmv-frankfurt.de/)\nCHORKONZERT "D
 ona nobis pacem"\nFrank Martin (1890-1974) \nMESSE für zwei vierstimmige Ch
 öre\nWerke von Giovanni Pierluigi da Palestrina (1525-1594),\nAndrea Gabrie
 li (c.1532-1585),\nJohann Sebastian Bach (1685-1750), \nAnton Bruckner (182
 4-1896),\nVytautas Miškinis (*1954) u.a.\nKURT-THOMAS-KAMMERCHOR\nwww.kurt-
 thomas-kammerchor.de (https://www.kurt-thomas-kammerchor.de/) \nPetra Köhs 
 | Violoncello\nAndreas Köhs | Leitung\nwww.andreas-koehs.de (https://www.an
 dreas-koehs.de)\n Tickets-Info: Heiliggeistkirche im Dominikanerkloster Fra
 nkfurt am Main (http://kirchenmusikverein.kmv-frankfurt.de/)\n(Nur Abendkas
 se | freie Platzwahl)\n Dieser Event wurde importiert von: https://www.kurt
 -thomas-kammerchor.de/de/component/jevents/Eventdetail/254/-/chorkonzert-do
 na-nobis-pacem-kurt-thomas-kammerchor-heiliggeistkirche-im-dominikanerklost
 er-frankfurt-am-main?Itemid=305&amp;tmpl=component (https://www.kurt-thomas
 -kammerchor.de/de/component/jevents/Eventdetail/254/-/chorkonzert-dona-nobi
 s-pacem-kurt-thomas-kammerchor-heiliggeistkirche-im-dominikanerkloster-fran
 kfurt-am-main?Itemid=305&amp;tmpl=component)
X-ALT-DESC;FMTTYPE=text/html:<p style="text-align: left;"><strong>Montag, 30.09.2024, 20:00 Uhr<br /><a 
 href="http://kirchenmusikverein.kmv-frankfurt.de/" target="_blank" rel="alt
 ernate noopener noreferrer" title="Heiliggeistkirche im Dominikanerkloster 
 Frankfurt am Main (Kurt-Schumacher-Str. 23 / Dominikanergasse 14, 60311 Fra
 nkfurt am Main">Heiliggeistkirche im Dominikanerkloster Frankfurt am Main</
 a></strong></p><h4 style="text-align: left;"><strong>CHORKONZERT "Dona nobi
 s pacem"<br /></strong></h4><p style="text-align: left;"><strong>Frank Mart
 in</strong> (1890-1974) <br /><strong>MESSE für zwei vierstimmige Chöre</st
 rong></p><p>Werke von&nbsp;Giovanni Pierluigi da Palestrina (1525-1594),<br
  />Andrea Gabrieli (c.1532-1585),<br />Johann Sebastian Bach (1685-1750), <
 br />Anton Bruckner (1824-1896),<br />Vytautas Miškinis (*1954) u.a.</p><p>
 <strong>KURT-THOMAS-KAMMERCHOR<br /></strong><a href="https://www.kurt-thom
 as-kammerchor.de/" target="_blank" rel="noopener noreferrer" title="www.kur
 t-thomas-kammerchor.de">www.kurt-thomas-kammerchor.de</a> <br /><strong>Pet
 ra Köhs</strong> | Violoncello<br /><strong>Andreas Köhs</strong> | Leitung
 <br /><a href="https://www.andreas-koehs.de" target="_blank" rel="noopener"
  title="www.andreas-koehs.de">www.andreas-koehs.de</a></p><hr /><p><strong>
 <i class="fas fa-ticket"></i> Tickets-Info</strong>: <a href="http://kirche
 nmusikverein.kmv-frankfurt.de/" target="_blank" rel="alternate noopener nor
 eferrer" title="Heiliggeistkirche im Dominikanerkloster Frankfurt am Main (
 Kurt-Schumacher-Str. 23 / Dominikanergasse 14, 60311 Frankfurt am Main">Hei
 liggeistkirche im Dominikanerkloster Frankfurt am Main</a><br />(Nur Abendk
 asse | freie Platzwahl)</p><hr /> <a href="https://www.kurt-thomas-kammerch
 or.de/de/component/jevents/Eventdetail/254/-/chorkonzert-dona-nobis-pacem-k
 urt-thomas-kammerchor-heiliggeistkirche-im-dominikanerkloster-frankfurt-am-
 main?Itemid=305&amp;tmpl=component">Dieser Event wurde importiert von: http
 s://www.kurt-thomas-kammerchor.de/de/component/jevents/Eventdetail/254/-/ch
 orkonzert-dona-nobis-pacem-kurt-thomas-kammerchor-heiliggeistkirche-im-domi
 nikanerkloster-frankfurt-am-main?Itemid=305&amp;tmpl=component</a>DTSTAMP:20260421T183717
DTSTART;TZID=Europe/Berlin:20240930T200000
DTEND;TZID=Europe/Berlin:20240930T213000
SEQUENCE:0
TRANSP:OPAQUE
END:VEVENT
END:VCALENDAR