BEGIN:VCALENDAR
VERSION:2.0
PRODID:-//jEvents 2.0 for Joomla//EN
CALSCALE:GREGORIAN
METHOD:PUBLISH
BEGIN:VTIMEZONE
TZID:Europe/Berlin
BEGIN:STANDARD
DTSTART:20231029T020000
RDATE:20240331T030000
TZOFFSETFROM:+0200
TZOFFSETTO:+0100
TZNAME:Europe/Berlin CET
END:STANDARD
BEGIN:STANDARD
DTSTART:20241027T020000
RDATE:20250330T030000
TZOFFSETFROM:+0200
TZOFFSETTO:+0100
TZNAME:Europe/Berlin CET
END:STANDARD
BEGIN:STANDARD
DTSTART:20251026T020000
RDATE:20260329T030000
TZOFFSETFROM:+0200
TZOFFSETTO:+0100
TZNAME:Europe/Berlin CET
END:STANDARD
BEGIN:STANDARD
DTSTART:20261025T020000
RDATE:20270328T030000
TZOFFSETFROM:+0200
TZOFFSETTO:+0100
TZNAME:Europe/Berlin CET
END:STANDARD
BEGIN:DAYLIGHT
DTSTART:20230929T170000
RDATE:20231029T020000
TZOFFSETFROM:+0100
TZOFFSETTO:+0200
TZNAME:Europe/Berlin CEST
END:DAYLIGHT
BEGIN:DAYLIGHT
DTSTART:20240331T030000
RDATE:20241027T020000
TZOFFSETFROM:+0100
TZOFFSETTO:+0200
TZNAME:Europe/Berlin CEST
END:DAYLIGHT
BEGIN:DAYLIGHT
DTSTART:20250330T030000
RDATE:20251026T020000
TZOFFSETFROM:+0100
TZOFFSETTO:+0200
TZNAME:Europe/Berlin CEST
END:DAYLIGHT
BEGIN:DAYLIGHT
DTSTART:20260329T030000
RDATE:20261025T020000
TZOFFSETFROM:+0100
TZOFFSETTO:+0200
TZNAME:Europe/Berlin CEST
END:DAYLIGHT
END:VTIMEZONE
BEGIN:VEVENT
UID:75b491562d19e2d6071c569ca93fceb2
CATEGORIES:Chorkonzert
CREATED:20231128T154344
SUMMARY:CHORKONZERT "Dona nobis pacem" || Kurt-Thomas-Kammerchor || Dreikönigskirche Frankfurt am Main
LOCATION:: Dreikönigskirche Frankfurt am Main (Sachsenhäuser Ufer | Nähe Eiserner St
 eg)
URL;VALUE=URI:https://www.kurt-thomas-kammerchor.de/de/component/jevents/Eventdetail/253/
 -/chorkonzert-dona-nobis-pacem-kurt-thomas-kammerchor-dreikoenigskirche-fra
 nkfurt-am-main?Itemid=305&amp;tmpl=component
DESCRIPTION:Sonntag, 29.09.2024, 17:00 Uhr \nDreikönigskirche Frankfurt am Main (https:
 //www.kirchenmusik-dreikoenig.de)\nCHORKONZERT "Dona nobis pacem"\nFrank Ma
 rtin (1890-1974) \nMESSE für zwei vierstimmige Chöre\nWerke von Giovanni Pi
 erluigi da Palestrina (1525-1594),\nAndrea Gabrieli (c.1532-1585),\nJohann 
 Sebastian Bach (1685-1750), \nAnton Bruckner (1824-1896),\nVytautas Miškini
 s (*1954) u.a.\nKURT-THOMAS-KAMMERCHOR\nwww.kurt-thomas-kammerchor.de (http
 s://www.kurt-thomas-kammerchor.de/)\nPetra Köhs | Violoncello\nAndreas Köhs
  | Leitung\nwww.andreas-koehs.de (https://www.andreas-koehs.de)\n Tickets: 
 20 EUR, ermäßigt 15 EUR (Abendkasse)\n \n \n Dieser Event wurde importiert 
 von: https://www.kurt-thomas-kammerchor.de/de/component/jevents/Eventdetail
 /253/-/chorkonzert-dona-nobis-pacem-kurt-thomas-kammerchor-dreikoenigskirch
 e-frankfurt-am-main?Itemid=305&amp;tmpl=component (https://www.kurt-thomas-
 kammerchor.de/de/component/jevents/Eventdetail/253/-/chorkonzert-dona-nobis
 -pacem-kurt-thomas-kammerchor-dreikoenigskirche-frankfurt-am-main?Itemid=30
 5&amp;tmpl=component)
X-ALT-DESC;FMTTYPE=text/html:<p style="text-align: left;"><strong>Sonntag, 29.09.2024, 17:00 Uhr <br /><
 a href="https://www.kirchenmusik-dreikoenig.de" target="_blank" rel="altern
 ate noopener noreferrer" title="Dreikönigskirche Frankfurt am Main (Sachsen
 häuser Mainufer, Nähe Eiserner Steg)">Dreikönigskirche Frankfurt am Main</a
 ></strong></p><h4 style="text-align: left;"><strong>CHORKONZERT "Dona nobis
  pacem"<br /></strong></h4><p style="text-align: left;"><strong>Frank Marti
 n</strong> (1890-1974) <br /><strong>MESSE für zwei vierstimmige Chöre</str
 ong></p><p>Werke von&nbsp;Giovanni Pierluigi da Palestrina (1525-1594),<br 
 />Andrea Gabrieli (c.1532-1585),<br />Johann Sebastian Bach (1685-1750), <b
 r />Anton Bruckner (1824-1896),<br />Vytautas Miškinis (*1954) u.a.</p><p><
 strong>KURT-THOMAS-KAMMERCHOR<br /></strong><a href="https://www.kurt-thoma
 s-kammerchor.de/" target="_blank" rel="noopener noreferrer" title="www.kurt
 -thomas-kammerchor.de">www.kurt-thomas-kammerchor.de</a><span></span><br />
 <strong>Petra Köhs</strong> | Violoncello<br /><strong>Andreas Köhs</strong
 > | Leitung<br /><a href="https://www.andreas-koehs.de" target="_blank" rel
 ="noopener" title="www.andreas-koehs.de">www.andreas-koehs.de</a></p><hr />
 <p><strong><i class="fas fa-ticket"></i> Tickets</strong>: 20 EUR, ermäßigt
  15 EUR (Abendkasse)</p><p>&nbsp;</p><hr /><p>&nbsp;</p> <a href="https://w
 ww.kurt-thomas-kammerchor.de/de/component/jevents/Eventdetail/253/-/chorkon
 zert-dona-nobis-pacem-kurt-thomas-kammerchor-dreikoenigskirche-frankfurt-am
 -main?Itemid=305&amp;tmpl=component">Dieser Event wurde importiert von: htt
 ps://www.kurt-thomas-kammerchor.de/de/component/jevents/Eventdetail/253/-/c
 horkonzert-dona-nobis-pacem-kurt-thomas-kammerchor-dreikoenigskirche-frankf
 urt-am-main?Itemid=305&amp;tmpl=component</a>DTSTAMP:20260421T235106
DTSTART;TZID=Europe/Berlin:20240929T170000
DTEND;TZID=Europe/Berlin:20240929T183000
SEQUENCE:0
TRANSP:OPAQUE
END:VEVENT
END:VCALENDAR