BEGIN:VCALENDAR
VERSION:2.0
PRODID:-//jEvents 2.0 for Joomla//EN
CALSCALE:GREGORIAN
METHOD:PUBLISH
BEGIN:VTIMEZONE
TZID:Europe/Berlin
BEGIN:STANDARD
DTSTART:20231029T020000
RDATE:20240331T030000
TZOFFSETFROM:+0200
TZOFFSETTO:+0100
TZNAME:Europe/Berlin CET
END:STANDARD
BEGIN:STANDARD
DTSTART:20241027T020000
RDATE:20250330T030000
TZOFFSETFROM:+0200
TZOFFSETTO:+0100
TZNAME:Europe/Berlin CET
END:STANDARD
BEGIN:STANDARD
DTSTART:20251026T020000
RDATE:20260329T030000
TZOFFSETFROM:+0200
TZOFFSETTO:+0100
TZNAME:Europe/Berlin CET
END:STANDARD
BEGIN:STANDARD
DTSTART:20261025T020000
RDATE:20270328T030000
TZOFFSETFROM:+0200
TZOFFSETTO:+0100
TZNAME:Europe/Berlin CET
END:STANDARD
BEGIN:DAYLIGHT
DTSTART:20230928T190000
RDATE:20231029T020000
TZOFFSETFROM:+0100
TZOFFSETTO:+0200
TZNAME:Europe/Berlin CEST
END:DAYLIGHT
BEGIN:DAYLIGHT
DTSTART:20240331T030000
RDATE:20241027T020000
TZOFFSETFROM:+0100
TZOFFSETTO:+0200
TZNAME:Europe/Berlin CEST
END:DAYLIGHT
BEGIN:DAYLIGHT
DTSTART:20250330T030000
RDATE:20251026T020000
TZOFFSETFROM:+0100
TZOFFSETTO:+0200
TZNAME:Europe/Berlin CEST
END:DAYLIGHT
BEGIN:DAYLIGHT
DTSTART:20260329T030000
RDATE:20261025T020000
TZOFFSETFROM:+0100
TZOFFSETTO:+0200
TZNAME:Europe/Berlin CEST
END:DAYLIGHT
END:VTIMEZONE
BEGIN:VEVENT
UID:6ca915b41ead54257af7055b90f4291a
CATEGORIES:Chorkonzert
CREATED:20231128T154140
SUMMARY:CHORKONZERT "Dona nobis pacem" || Kurt-Thomas-Kammerchor || Benediktinerinnenabtei Kloster Engelthal
LOCATION:: Kloster Engelthal / Altenstadt (Klosterstr. 2\, 63674 Altenstadt)
URL;VALUE=URI:https://www.kurt-thomas-kammerchor.de/de/component/jevents/Eventdetail/252/
 -/chorkonzert-dona-nobis-pacem-kurt-thomas-kammerchor-benediktinerinnenabte
 i-kloster-engelthal?Itemid=305&amp;tmpl=component
DESCRIPTION:Samstag, 28.09.2024, 19:00 Uhr\nBenediktinerinnenabtei Kloster Engelthal (h
 ttps://www.abtei-kloster-engelthal.de/)\nCHORKONZERT "Dona nobis pacem"\nFr
 ank Martin (1890-1974) \nMESSE für zwei vierstimmige Chöre\nWerke von Giova
 nni Pierluigi da Palestrina (1525-1594),\nAndrea Gabrieli (c.1532-1585),\nJ
 ohann Sebastian Bach (1685-1750),\nAnton Bruckner (1824-1896), \nVytautas M
 iškinis (*1954) u.a.\nKURT-THOMAS-KAMMERCHOR\nwww.kurt-thomas-kammerchor.de
  (https://www.kurt-thomas-kammerchor.de/) \nPetra Köhs | Violoncello\nAndre
 as Köhs | Leitung\nwww.andreas-koehs.de (https://www.andreas-koehs.de)\n Ti
 ckets: 15 EUR | Abendkasse\nKartenvorverkauf im Klosterforum: samstags 13:3
 0 - 16:00 Uhr\nKartenvorbestellungen unter: konzertkarten(at)abtei-kloster-
 engelthal.de\n \n Dieser Event wurde importiert von: https://www.kurt-thoma
 s-kammerchor.de/de/component/jevents/Eventdetail/252/-/chorkonzert-dona-nob
 is-pacem-kurt-thomas-kammerchor-benediktinerinnenabtei-kloster-engelthal?It
 emid=305&amp;tmpl=component (https://www.kurt-thomas-kammerchor.de/de/compo
 nent/jevents/Eventdetail/252/-/chorkonzert-dona-nobis-pacem-kurt-thomas-kam
 merchor-benediktinerinnenabtei-kloster-engelthal?Itemid=305&amp;tmpl=compon
 ent)
X-ALT-DESC;FMTTYPE=text/html:<p style="text-align: left;"><strong>Samstag, 28.09.2024, 19:00 Uhr<a href=
 "https://www.abtei-kloster-engelthal.de/" target="_blank" rel="alternate no
 opener noreferrer" title="Benediktinerinnenabtei Kloster Engelthal (Kloster
 straße 2, 63674 Altenstadt / Hessen)"><br />Benediktinerinnenabtei Kloster 
 Engelthal</a></strong></p><h4 style="text-align: left;"><strong>CHORKONZERT
  "Dona nobis pacem"<br /></strong></h4><p style="text-align: left;"><strong
 >Frank Martin</strong> (1890-1974) <br /><strong>MESSE für zwei vierstimmig
 e Chöre</strong></p><p>Werke von&nbsp;Giovanni Pierluigi da Palestrina (152
 5-1594),<br />Andrea Gabrieli (c.1532-1585),<br />Johann Sebastian Bach (16
 85-1750),<br />Anton Bruckner (1824-1896), <br />Vytautas Miškinis (*1954) 
 u.a.</p><p><strong>KURT-THOMAS-KAMMERCHOR<br /></strong><a href="https://ww
 w.kurt-thomas-kammerchor.de/" target="_blank" rel="noopener noreferrer" tit
 le="www.kurt-thomas-kammerchor.de">www.kurt-thomas-kammerchor.de</a> <br />
 <strong>Petra Köhs</strong> | Violoncello<br /><strong>Andreas Köhs</strong
 > | Leitung<br /><a href="https://www.andreas-koehs.de" target="_blank" rel
 ="noopener" title="www.andreas-koehs.de">www.andreas-koehs.de</a></p><hr />
 <p style="text-align: left;"><strong><i class="fas fa-ticket"></i> Tickets<
 /strong>: 15 EUR | Abendkasse<br /><strong>Kartenvorverkauf</strong> im Klo
 sterforum: samstags 13:30 - 16:00 Uhr<br /><strong>Kartenvorbestellungen</s
 trong> unter: konzertkarten(at)abtei-kloster-engelthal.de</p><hr /><p>&nbsp
 ;</p> <a href="https://www.kurt-thomas-kammerchor.de/de/component/jevents/E
 ventdetail/252/-/chorkonzert-dona-nobis-pacem-kurt-thomas-kammerchor-benedi
 ktinerinnenabtei-kloster-engelthal?Itemid=305&amp;tmpl=component">Dieser Ev
 ent wurde importiert von: https://www.kurt-thomas-kammerchor.de/de/componen
 t/jevents/Eventdetail/252/-/chorkonzert-dona-nobis-pacem-kurt-thomas-kammer
 chor-benediktinerinnenabtei-kloster-engelthal?Itemid=305&amp;tmpl=component
 </a>DTSTAMP:20260421T235102
DTSTART;TZID=Europe/Berlin:20240928T190000
DTEND;TZID=Europe/Berlin:20240928T203000
SEQUENCE:0
TRANSP:OPAQUE
END:VEVENT
END:VCALENDAR